BEGIN:VCALENDAR
VERSION:2.0
PRODID:-//AHF - ECPv6.15.17.1//NONSGML v1.0//EN
CALSCALE:GREGORIAN
METHOD:PUBLISH
X-ORIGINAL-URL:https://www.ahfoundation.org
X-WR-CALDESC:Events for AHF
REFRESH-INTERVAL;VALUE=DURATION:PT1H
X-Robots-Tag:noindex
X-PUBLISHED-TTL:PT1H
BEGIN:VTIMEZONE
TZID:UTC
BEGIN:STANDARD
TZOFFSETFROM:+0000
TZOFFSETTO:+0000
TZNAME:UTC
DTSTART:20240101T000000
END:STANDARD
END:VTIMEZONE
BEGIN:VEVENT
DTSTART;TZID=UTC:20250307T183000
DTEND;TZID=UTC:20250307T203000
DTSTAMP:20260421T162002
CREATED:20250227T201802Z
LAST-MODIFIED:20250227T202633Z
UID:2229-1741372200-1741379400@www.ahfoundation.org
SUMMARY:Watercolor Workshop
DESCRIPTION:
URL:https://www.ahfoundation.org/event/watercolor-workshop/
LOCATION:AHF\, 300 Somerset Street\, New Brunswick\, NJ\, 08901\, United States
ATTACH;FMTTYPE=image/png:https://www.ahfoundation.org/wp-content/uploads/2025/02/Watercolor-Workshop25.png
END:VEVENT
BEGIN:VEVENT
DTSTART;TZID=UTC:20250315T100000
DTEND;TZID=UTC:20250315T140000
DTSTAMP:20260421T162002
CREATED:20250122T215055Z
LAST-MODIFIED:20250227T171923Z
UID:2189-1742032800-1742047200@www.ahfoundation.org
SUMMARY:Hungarian Artisan Market
DESCRIPTION:
URL:https://www.ahfoundation.org/event/hungarian-artisan-market-25/
LOCATION:AHF\, 300 Somerset Street\, New Brunswick\, NJ\, 08901\, United States
END:VEVENT
BEGIN:VEVENT
DTSTART;TZID=UTC:20250315T100000
DTEND;TZID=UTC:20250315T140000
DTSTAMP:20260421T162002
CREATED:20250122T215155Z
LAST-MODIFIED:20250227T201550Z
UID:2191-1742032800-1742047200@www.ahfoundation.org
SUMMARY:Exhibit Opening: Farewell to Winter
DESCRIPTION:
URL:https://www.ahfoundation.org/event/exhibit-opening-farewell-to-winter/
LOCATION:AHF\, 300 Somerset Street\, New Brunswick\, NJ\, 08901\, United States
ATTACH;FMTTYPE=image/png:https://www.ahfoundation.org/wp-content/uploads/2025/01/1-2.png
END:VEVENT
END:VCALENDAR