BEGIN:VCALENDAR
VERSION:2.0
PRODID:-//AHF - ECPv6.15.17.1//NONSGML v1.0//EN
CALSCALE:GREGORIAN
METHOD:PUBLISH
X-ORIGINAL-URL:https://www.ahfoundation.org
X-WR-CALDESC:Events for AHF
REFRESH-INTERVAL;VALUE=DURATION:PT1H
X-Robots-Tag:noindex
X-PUBLISHED-TTL:PT1H
BEGIN:VTIMEZONE
TZID:UTC
BEGIN:STANDARD
TZOFFSETFROM:+0000
TZOFFSETTO:+0000
TZNAME:UTC
DTSTART:20230101T000000
END:STANDARD
END:VTIMEZONE
BEGIN:VEVENT
DTSTART;TZID=UTC:20241214T100000
DTEND;TZID=UTC:20241214T160000
DTSTAMP:20260421T112840
CREATED:20231025T185838Z
LAST-MODIFIED:20231025T185838Z
UID:1851-1734170400-1734192000@www.ahfoundation.org
SUMMARY:Hungarian Christmas Market
DESCRIPTION:More info to come…
URL:https://www.ahfoundation.org/event/hungarian-christmas-market-3/
LOCATION:AHF\, 300 Somerset Street\, New Brunswick\, NJ\, 08901\, United States
END:VEVENT
END:VCALENDAR