BEGIN:VCALENDAR
VERSION:2.0
PRODID:-//AHF - ECPv6.15.17.1//NONSGML v1.0//EN
CALSCALE:GREGORIAN
METHOD:PUBLISH
X-ORIGINAL-URL:https://www.ahfoundation.org
X-WR-CALDESC:Events for AHF
REFRESH-INTERVAL;VALUE=DURATION:PT1H
X-Robots-Tag:noindex
X-PUBLISHED-TTL:PT1H
BEGIN:VTIMEZONE
TZID:UTC
BEGIN:STANDARD
TZOFFSETFROM:+0000
TZOFFSETTO:+0000
TZNAME:UTC
DTSTART:20210101T000000
END:STANDARD
END:VTIMEZONE
BEGIN:VEVENT
DTSTART;TZID=UTC:20220604T100000
DTEND;TZID=UTC:20220604T180000
DTSTAMP:20260421T232253
CREATED:20220405T181728Z
LAST-MODIFIED:20220405T181728Z
UID:1587-1654336800-1654365600@www.ahfoundation.org
SUMMARY:45th annual Hungarian Festival
DESCRIPTION:
URL:https://www.ahfoundation.org/event/45th-annual-hungarian-festival/
LOCATION:NJ
CATEGORIES:Hungarian Heritage
END:VEVENT
END:VCALENDAR