BEGIN:VCALENDAR
VERSION:2.0
PRODID:-//AHF - ECPv6.15.17.1//NONSGML v1.0//EN
CALSCALE:GREGORIAN
METHOD:PUBLISH
X-ORIGINAL-URL:https://www.ahfoundation.org
X-WR-CALDESC:Events for AHF
REFRESH-INTERVAL;VALUE=DURATION:PT1H
X-Robots-Tag:noindex
X-PUBLISHED-TTL:PT1H
BEGIN:VTIMEZONE
TZID:UTC
BEGIN:STANDARD
TZOFFSETFROM:+0000
TZOFFSETTO:+0000
TZNAME:UTC
DTSTART:20210101T000000
END:STANDARD
END:VTIMEZONE
BEGIN:VEVENT
DTSTART;TZID=UTC:20220514T180000
DTEND;TZID=UTC:20220514T230000
DTSTAMP:20260422T004824
CREATED:20220405T181558Z
LAST-MODIFIED:20220405T181622Z
UID:1584-1652551200-1652569200@www.ahfoundation.org
SUMMARY:55th annual Carousel Ball
DESCRIPTION:
URL:https://www.ahfoundation.org/event/55th-annual-carousel-ball/
LOCATION:NJ
END:VEVENT
END:VCALENDAR