BEGIN:VCALENDAR
VERSION:2.0
PRODID:-//AHF - ECPv6.15.17.1//NONSGML v1.0//EN
CALSCALE:GREGORIAN
METHOD:PUBLISH
X-ORIGINAL-URL:https://www.ahfoundation.org
X-WR-CALDESC:Events for AHF
REFRESH-INTERVAL;VALUE=DURATION:PT1H
X-Robots-Tag:noindex
X-PUBLISHED-TTL:PT1H
BEGIN:VTIMEZONE
TZID:UTC
BEGIN:STANDARD
TZOFFSETFROM:+0000
TZOFFSETTO:+0000
TZNAME:UTC
DTSTART:20240101T000000
END:STANDARD
END:VTIMEZONE
BEGIN:VEVENT
DTSTART;TZID=UTC:20250412T100000
DTEND;TZID=UTC:20250412T140000
DTSTAMP:20260421T192005
CREATED:20250122T215244Z
LAST-MODIFIED:20250411T184746Z
UID:2193-1744452000-1744466400@www.ahfoundation.org
SUMMARY:Hungarian Artisan Market
DESCRIPTION:
URL:https://www.ahfoundation.org/event/hungarian-artisan-market-26/
LOCATION:AHF\, 300 Somerset Street\, New Brunswick\, NJ\, 08901\, United States
ATTACH;FMTTYPE=image/jpeg:https://www.ahfoundation.org/wp-content/uploads/2025/01/489603657_18449553487074168_6765742360340409292_n.jpg
END:VEVENT
END:VCALENDAR