BEGIN:VCALENDAR
VERSION:2.0
PRODID:-//AHF - ECPv6.15.17.1//NONSGML v1.0//EN
CALSCALE:GREGORIAN
METHOD:PUBLISH
X-WR-CALNAME:AHF
X-ORIGINAL-URL:https://www.ahfoundation.org
X-WR-CALDESC:Events for AHF
REFRESH-INTERVAL;VALUE=DURATION:PT1H
X-Robots-Tag:noindex
X-PUBLISHED-TTL:PT1H
BEGIN:VTIMEZONE
TZID:UTC
BEGIN:STANDARD
TZOFFSETFROM:+0000
TZOFFSETTO:+0000
TZNAME:UTC
DTSTART:20240101T000000
END:STANDARD
END:VTIMEZONE
BEGIN:VEVENT
DTSTART;TZID=UTC:20250215T100000
DTEND;TZID=UTC:20250215T140000
DTSTAMP:20260421T161617
CREATED:20250122T214612Z
LAST-MODIFIED:20250128T180401Z
UID:2182-1739613600-1739628000@www.ahfoundation.org
SUMMARY:Hungarian Artisan Market
DESCRIPTION:
URL:https://www.ahfoundation.org/event/hungarian-artisan-market-24/
LOCATION:NJ
ATTACH;FMTTYPE=image/png:https://www.ahfoundation.org/wp-content/uploads/2025/01/HAM22025.png
END:VEVENT
END:VCALENDAR