BEGIN:VCALENDAR
VERSION:2.0
PRODID:-//AHF - ECPv6.15.17.1//NONSGML v1.0//EN
CALSCALE:GREGORIAN
METHOD:PUBLISH
X-ORIGINAL-URL:https://www.ahfoundation.org
X-WR-CALDESC:Events for AHF
REFRESH-INTERVAL;VALUE=DURATION:PT1H
X-Robots-Tag:noindex
X-PUBLISHED-TTL:PT1H
BEGIN:VTIMEZONE
TZID:UTC
BEGIN:STANDARD
TZOFFSETFROM:+0000
TZOFFSETTO:+0000
TZNAME:UTC
DTSTART:20230101T000000
END:STANDARD
END:VTIMEZONE
BEGIN:VEVENT
DTSTART;TZID=UTC:20240420T180000
DTEND;TZID=UTC:20240420T210000
DTSTAMP:20260422T132709
CREATED:20231025T185748Z
LAST-MODIFIED:20240702T175524Z
UID:1849-1713636000-1713646800@www.ahfoundation.org
SUMMARY:AHF's Gala
DESCRIPTION:AHF’s Annual Gala honoring Gabriella Vajtay and ReConnect Hungary! \nJoin us Saturday\, April 20th at 6pm for an evening of celebration. \nEveryone is welcome. \nTo purchase tickets click here
URL:https://www.ahfoundation.org/event/ahfs-gala/
LOCATION:The Rutgers Club\, 85 Avenue E\, Piscataway\, NJ\, 08854\, United States
ATTACH;FMTTYPE=image/jpeg:https://www.ahfoundation.org/wp-content/uploads/2024/04/IMG_8061.jpg
END:VEVENT
END:VCALENDAR