BEGIN:VCALENDAR
VERSION:2.0
PRODID:-//AHF - ECPv6.15.17.1//NONSGML v1.0//EN
CALSCALE:GREGORIAN
METHOD:PUBLISH
X-WR-CALNAME:AHF
X-ORIGINAL-URL:https://www.ahfoundation.org
X-WR-CALDESC:Events for AHF
REFRESH-INTERVAL;VALUE=DURATION:PT1H
X-Robots-Tag:noindex
X-PUBLISHED-TTL:PT1H
BEGIN:VTIMEZONE
TZID:UTC
BEGIN:STANDARD
TZOFFSETFROM:+0000
TZOFFSETTO:+0000
TZNAME:UTC
DTSTART:20230101T000000
END:STANDARD
END:VTIMEZONE
BEGIN:VEVENT
DTSTART;TZID=UTC:20240210T100000
DTEND;TZID=UTC:20240210T140000
DTSTAMP:20260422T021216
CREATED:20231025T184232Z
LAST-MODIFIED:20231025T184829Z
UID:1835-1707559200-1707573600@www.ahfoundation.org
SUMMARY:Hungarian Artisan Market
DESCRIPTION:Join us for another Hungarian Artisan Market featuring Hirs Sausage Market\, Papp-RIKA food truck from E&Z Catering\, The Chimney Cake Factory\, Euro Dough\, AHF and many more!
URL:https://www.ahfoundation.org/event/hungarian-artisan-market-17/
LOCATION:AHF\, 300 Somerset Street\, New Brunswick\, NJ\, 08901\, United States
END:VEVENT
END:VCALENDAR