BEGIN:VCALENDAR
VERSION:2.0
PRODID:-//AHF - ECPv6.15.17.1//NONSGML v1.0//EN
CALSCALE:GREGORIAN
METHOD:PUBLISH
X-ORIGINAL-URL:https://www.ahfoundation.org
X-WR-CALDESC:Events for AHF
REFRESH-INTERVAL;VALUE=DURATION:PT1H
X-Robots-Tag:noindex
X-PUBLISHED-TTL:PT1H
BEGIN:VTIMEZONE
TZID:UTC
BEGIN:STANDARD
TZOFFSETFROM:+0000
TZOFFSETTO:+0000
TZNAME:UTC
DTSTART:20230101T000000
END:STANDARD
END:VTIMEZONE
BEGIN:VEVENT
DTSTART;TZID=UTC:20240116T080000
DTEND;TZID=UTC:20240116T170000
DTSTAMP:20260421T225029
CREATED:20231025T182756Z
LAST-MODIFIED:20231025T182756Z
UID:1833-1705392000-1705424400@www.ahfoundation.org
SUMMARY:Windows of Understanding Exhibit
DESCRIPTION:
URL:https://www.ahfoundation.org/event/windows-of-understanding-exhibit/
LOCATION:AHF\, 300 Somerset Street\, New Brunswick\, NJ\, 08901\, United States
END:VEVENT
END:VCALENDAR