BEGIN:VCALENDAR
VERSION:2.0
PRODID:-//AHF - ECPv6.15.17.1//NONSGML v1.0//EN
CALSCALE:GREGORIAN
METHOD:PUBLISH
X-ORIGINAL-URL:https://www.ahfoundation.org
X-WR-CALDESC:Events for AHF
REFRESH-INTERVAL;VALUE=DURATION:PT1H
X-Robots-Tag:noindex
X-PUBLISHED-TTL:PT1H
BEGIN:VTIMEZONE
TZID:UTC
BEGIN:STANDARD
TZOFFSETFROM:+0000
TZOFFSETTO:+0000
TZNAME:UTC
DTSTART:20200101T000000
END:STANDARD
END:VTIMEZONE
BEGIN:VEVENT
DTSTART;TZID=UTC:20211211T100000
DTEND;TZID=UTC:20211211T180000
DTSTAMP:20260422T102430
CREATED:20210324T173732Z
LAST-MODIFIED:20211110T153823Z
UID:1449-1639216800-1639245600@www.ahfoundation.org
SUMMARY:Hungarian Christmas Market
DESCRIPTION:Come join us as we invite Hirs Sausage Market and other Hungarian vendors back for the Hungarian Artisan Christmas Market! A fundraising event to help benefit the Hungarian Scouts of New Brunswick.  \nA special day with extended hours from 10am-6pm \nThe American Hungarian Foundation will have noodles: csiga & other varieties\, paprika: hot & sweet and other Hungarian delicacies for sale!  \nMASKS REQUIRED
URL:https://www.ahfoundation.org/event/hungarian-artisan-market-6/
LOCATION:NJ
END:VEVENT
END:VCALENDAR