BEGIN:VCALENDAR
VERSION:2.0
PRODID:-//AHF - ECPv6.15.17.1//NONSGML v1.0//EN
CALSCALE:GREGORIAN
METHOD:PUBLISH
X-ORIGINAL-URL:https://www.ahfoundation.org
X-WR-CALDESC:Events for AHF
REFRESH-INTERVAL;VALUE=DURATION:PT1H
X-Robots-Tag:noindex
X-PUBLISHED-TTL:PT1H
BEGIN:VTIMEZONE
TZID:UTC
BEGIN:STANDARD
TZOFFSETFROM:+0000
TZOFFSETTO:+0000
TZNAME:UTC
DTSTART:20200101T000000
END:STANDARD
END:VTIMEZONE
BEGIN:VEVENT
DTSTART;TZID=UTC:20211205T140000
DTEND;TZID=UTC:20211205T170000
DTSTAMP:20260422T102431
CREATED:20211110T154049Z
LAST-MODIFIED:20211110T154049Z
UID:1506-1638712800-1638723600@www.ahfoundation.org
SUMMARY:Festival of Trees
DESCRIPTION:On Sunday\, December 5th we invite you to the opening of the 33rd Annual Festival of Trees. \nCome and enjoy refreshments\, musical performances and Christmas Tree’s from around the world! \nThis year AHF is debuting our newest tree\, a New Brunswick themes tree. \nEVERYONE IS WELCOME!
URL:https://www.ahfoundation.org/event/festival-of-trees/
LOCATION:NJ
END:VEVENT
END:VCALENDAR