BEGIN:VCALENDAR
VERSION:2.0
PRODID:-//AHF - ECPv6.15.17.1//NONSGML v1.0//EN
CALSCALE:GREGORIAN
METHOD:PUBLISH
X-ORIGINAL-URL:https://www.ahfoundation.org
X-WR-CALDESC:Events for AHF
REFRESH-INTERVAL;VALUE=DURATION:PT1H
X-Robots-Tag:noindex
X-PUBLISHED-TTL:PT1H
BEGIN:VTIMEZONE
TZID:UTC
BEGIN:STANDARD
TZOFFSETFROM:+0000
TZOFFSETTO:+0000
TZNAME:UTC
DTSTART:20200101T000000
END:STANDARD
END:VTIMEZONE
BEGIN:VEVENT
DTSTART;TZID=UTC:20211022T120000
DTEND;TZID=UTC:20211026T130000
DTSTAMP:20260422T132634
CREATED:20211022T175811Z
LAST-MODIFIED:20211022T175938Z
UID:1493-1634904000-1635253200@www.ahfoundation.org
SUMMARY:Moholy-Nagy:  An Education of the Senses
DESCRIPTION:AHF presents a lecture from Dr. Oliver Botar\, an internationally acclaimed art historian and author\, Dr. Botar specializes in the nexus of Modernism and Biocentrism. He currently teaches art history at the University of Manitoba\, on Moholy-Nagy: An Education of the Senses.  \nEveryone is invited to participate via ZOOM. \nhttps://us02web.zoom.us \nMeeting ID: 698 590 6760\npassword: 221690 \n 
URL:https://www.ahfoundation.org/event/moholy-nagy-an-education-of-the-senses/
LOCATION:NJ
END:VEVENT
END:VCALENDAR